View In:
ArcGIS JavaScript
ArcGIS Online Map Viewer
ArcGIS Earth
ArcGIS Pro
Service Description: Served from C:\GIS\MapServiceMXDs\CCAPPS_MXDs\ContoursCache102100.mxd
A variety of contour resolutions and sources
Map Name: ContoursCache
Legend
All Layers and Tables
Dynamic Legend
Dynamic All Layers
Layers:
Description: Served from C:\GIS\MapServiceMXDs\CCAPPS_MXDs\ContoursCache102100.mxd
A variety of contour resolutions and sources
Service Item Id: 05d22975d3d44cffb2b8f8c3dc3878ff
Copyright Text: Carson City, Douglas County GIS, 2016
Spatial Reference:
102100
(3857)
Single Fused Map Cache: true
Tile Info:
- Height: 256
- Width: 256
- DPI: 96
-
Levels of Detail: 23
-
Level ID: 0
[ Start Tile, End Tile ]
- Resolution: 156543.03392800014
- Scale: 5.91657527591555E8
-
Level ID: 1
[ Start Tile, End Tile ]
- Resolution: 78271.51696399994
- Scale: 2.95828763795777E8
-
Level ID: 2
[ Start Tile, End Tile ]
- Resolution: 39135.75848200009
- Scale: 1.47914381897889E8
-
Level ID: 3
[ Start Tile, End Tile ]
- Resolution: 19567.87924099992
- Scale: 7.3957190948944E7
-
Level ID: 4
[ Start Tile, End Tile ]
- Resolution: 9783.93962049996
- Scale: 3.6978595474472E7
-
Level ID: 5
[ Start Tile, End Tile ]
- Resolution: 4891.96981024998
- Scale: 1.8489297737236E7
- Format: PNG
- Compression Quality: 0.0
- Origin: X: -2.0037508342787E7
Y: 2.0037508342787E7
- Spatial Reference: 102100
(3857)
Storage Info:
- Storage Format: esriMapCacheStorageModeCompactV2
- Packet Size: 128
Initial Extent:
XMin: -1.3332569578077618E7
YMin: 4744876.125868516
XMax: -1.3329848333051793E7
YMax: 4747407.748685939
Spatial Reference: 102100
Full Extent:
XMin: -1.3353824447813764E7
YMin: 4733275.121224551
XMax: -1.3308593463315647E7
YMax: 4759008.753329904
Spatial Reference: 102100
Units: esriMeters
Supported Image Format Types: PNG32,PNG24,PNG,JPG,DIB,TIFF,EMF,PS,PDF,GIF,SVG,SVGZ,BMP
Document Info:
Title: Public.aprx
Author:
Comments: Served from C:\GIS\MapServiceMXDs\CCAPPS_MXDs\ContoursCache102100.mxd
A variety of contour resolutions and sources
Subject: Contours in and around Carson City
Category:
Keywords: Topography,Contours,USGS
AntialiasingMode: Fast
TextAntialiasingMode: Force
Supports Dynamic Layers: true
MaxRecordCount: 2000
MaxImageHeight: 4096
MaxImageWidth: 4096
Supported Query Formats: JSON, geoJSON, PBF
Supports Query Data Elements: true
Min Scale: 144447.638572
Max Scale: 141.062147
Min LOD: 12
Max LOD: 22
Supports Datum Transformation: true
Child Resources:
Info
Dynamic Layer
Supported Operations:
Export Map
Identify
QueryLegends
QueryDomains
Find
Return Updates